BEGIN:VCALENDAR
VERSION:2.0
PRODID:-//eventon.com NONSGML v1.0//EN
CALSCALE:GREGORIAN
METHOD:PUBLISH
BEGIN:VEVENT
UID:69ea36e0ab3cc
DTSTAMP:20260423T151232Z
DTSTART:20240629T183000Z
DTEND:20240629T200000Z
LOCATION:La Caval&#039;Arte La Marronnière\,  53 Avenue Jules Nadi 26600 Tain l’Hermitage
SUMMARY:Sebka à Tain l'Hermitage (26)
DESCRIPTION:Sebka sera sur scène à la Caval&rsquo;Arte à Tain l&rsquo;He
 rmitage (26) dans la Drôme\,  samedi 29 juin à partir de 20H30. Il sera e
 n solo guitare / voix. Durée du concert : 1H15 Exposition à 18H (entrée 
 libre) Dégustation à 19H Repas entre 19 et 20H (sur réservation au 06[..
 ]\nhttps://sebka.fr/events/sebka-a-tain-lhermitage-26/
URL:https://sebka.fr/events/sebka-a-tain-lhermitage-26/
END:VEVENT
END:VCALENDAR